BEGIN:VCALENDAR
VERSION:2.0
PRODID:-//Tukios.com/
BEGIN:VEVENT
UID:72ce7d91-5773-4933-9733-439b1989debe@www.geiselfuneralhome.com
DTSTAMP:20260423T221703Z
DTSTART:20260427T130000Z
DTEND:20260427T150000Z
SUMMARY:Viewing
DESCRIPTION:
URL:https://www.geiselfuneralhome.com/obituaries/betty-stouffer
LOCATION: 333 Falling Spring Road  Chambersburg PA 17202
GEO:39.9237438;-77.6336774
END:VEVENT
END:VCALENDAR