BEGIN:VCALENDAR
VERSION:2.0
PRODID:-//Tukios.com/
BEGIN:VEVENT
UID:66712332-7b3e-473e-a63c-bb3cd3999f48@www.geiselfuneralhome.com
DTSTAMP:20260423T221702Z
DTSTART:20260427T150000Z
DTEND:20260427T160000Z
SUMMARY:Funeral Service
DESCRIPTION:
URL:https://www.geiselfuneralhome.com/obituaries/betty-stouffer
LOCATION:Thomas L. Geisel Funeral Home 333 Falling Spring Road  
	Chambersburg PA 17202
GEO:39.9237438;-77.6336774
END:VEVENT
END:VCALENDAR